BEGIN:VCALENDAR
VERSION:2.0
PRODID:-//Colegio Tartessos - ECPv5.3.2//NONSGML v1.0//EN
CALSCALE:GREGORIAN
METHOD:PUBLISH
X-WR-CALNAME:Colegio Tartessos
X-ORIGINAL-URL:https://www.colegiotartessos.com
X-WR-CALDESC:Eventos para Colegio Tartessos
BEGIN:VTIMEZONE
TZID:UTC
BEGIN:STANDARD
TZOFFSETFROM:+0000
TZOFFSETTO:+0000
TZNAME:UTC
DTSTART:20200101T000000
END:STANDARD
END:VTIMEZONE
BEGIN:VEVENT
DTSTART;VALUE=DATE:20200923
DTEND;VALUE=DATE:20210313
DTSTAMP:20260423T101629
CREATED:20171222T142446Z
LAST-MODIFIED:20171222T142446Z
UID:321-1600846718-1615593599@www.colegiotartessos.com
SUMMARY:School celebrates 27th Ceremony
DESCRIPTION:If you are not a student and have a question\, you can call: 1-800-275-4410 or email an Admissions Specialist. Fax: 1-570-961-4030. Address: Penn Foster Career School. Student CARE Center\, 925 Oak Street\, Scranton\, PA 18515 USA.
URL:https://www.colegiotartessos.com/event/school-celebrates-27th-ceremony/
LOCATION:primaria 6
END:VEVENT
END:VCALENDAR