BEGIN:VCALENDAR
VERSION:2.0
PRODID:-//Colegio Tartessos - ECPv5.3.2//NONSGML v1.0//EN
CALSCALE:GREGORIAN
METHOD:PUBLISH
X-WR-CALNAME:Colegio Tartessos
X-ORIGINAL-URL:https://www.colegiotartessos.com
X-WR-CALDESC:Eventos para Colegio Tartessos
BEGIN:VTIMEZONE
TZID:UTC
BEGIN:STANDARD
TZOFFSETFROM:+0000
TZOFFSETTO:+0000
TZNAME:UTC
DTSTART:20200101T000000
END:STANDARD
END:VTIMEZONE
BEGIN:VEVENT
DTSTART;VALUE=DATE:20200923
DTEND;VALUE=DATE:20200411
DTSTAMP:20260421T163508
CREATED:20170208T124325Z
LAST-MODIFIED:20170208T124325Z
UID:323-1600846718-1586563199@www.colegiotartessos.com
SUMMARY:Most part fantastic faculty members for the most students
DESCRIPTION:The Ed School District is in compliance with the U.S. Civil Rights Act of 1964 and the Title IX Educational Amendments of 1972\, Part 86. The School District provides equal employment and educational opportunities to all individuals without regard to race\, color\, creed\, religion\, national origin\, political affiliation\, sex\, sexual orientation\, age\, marital status\, veteran status or disability.
URL:https://www.colegiotartessos.com/event/most-part-fantastic-faculty-members/
LOCATION:Enrollment
CATEGORIES:School
ATTACH;FMTTYPE=image/jpeg:https://www.colegiotartessos.com/wp-content/uploads/2017/02/475130471-56a59d253df78cf772891501.jpg
END:VEVENT
END:VCALENDAR